BEGIN:VCALENDAR
VERSION:2.0
PRODID:-//ExpressionEngine Easy iCalendar plugin//NONSGML v2.0.1//EN
X-WR-TIMEZONE:America/New_York
X-WR-CALNAME:Upcoming Auctions
BEGIN:VEVENT
UID:88319
DTSTAMP:20221001T095500
DTSTART:20221001T095500
DTEND:20221001T105500
SUMMARY:Congress Ranch Horse Sale  Saturday\, October 1st  Columbus\, 
 Ohio
LOCATION:717 E 17th Ave\, Columbus\, OH 43211\, US
DESCRIPTION:  Congress Ranch Horse Sale Held in conjunction with the 54
 th Annual All American Quarter Horse Congress! Saturday\, Oct
 ober 1st 10:00am EST 717 E 17th Ave * Columbus\, OH 43211   
 This sale will feature pre-screened\, well broke Ranch\, Trail
 \, and Versatility horses of ALL breeds!   Brought to you by
  Professional Horse Services\, LLC (855) 272-3905 prohorseser
 vices.com   The auction is held during the Reining and Ranc
 h Horse part of the All American Quarter Horse Congress\, pro
 duced by the Ohio Quarter Horse Association. The “Congress
 ” is the World’s largest single breed horse show and run
 s from September 27th through October 23rd.   *NEW For 2022
 * Two-year-old Ranch Riding prospects offered through the au
 ction will be able to ride for additional Sale Incentive pur
 se money in the 2023 Congress Ranch Riding Futurity!   WELC
 OME to the online bidding platform for the 2022 Congress Ran
 ch Horse Sale! If you can’t attend the sale in person\, the
 re’s no need to miss out on the horse of your dreams! You 
 can join us right here LIVE and participate from anywhere in
  the world with an internet or cellular data connection!   
 If you will be viewing on a mobile device\, we recommend down
 loading the Horse Auctions USA app for the best online biddi
 ng experience. This available FREE to download from the Goog
 le Play and App stores. If you prefer to use your browser\, w
 e recommend you use Google Chrome   TWO WAYS TO BID ONLINE!
  BID LIVE: The real time live webcast with interactive onlin
 e bidding will go LIVE on sale day at 10am EST. When sale da
 y arrives\, you’ll see a little “Play” icon beneath the
  sale listing. Make sure that you have registered to bid\, ar
 e logged in\, click “Play” and enjoy! You’ll have real 
 time video/audio feed and bid buttons available to you so yo
 u can participate just as if you were here ringside!   EARL
 Y ABSENTEE BIDDING: Perhaps you have poor internet/cell conn
 ectivity where you will be on sale day. Maybe you have to wo
 rk and your employer frowns upon buying horses on company ti
 me. Or maybe\, you find the faster pace of a live auction a b
 it overwhelming! IN ALL of the above scenarios\, early absent
 ee bidding may be a great option for you! This works much li
 ke ebay for those of you familiar with that platform. This o
 ption will become available to you at 10:00am EST on Septemb
 er 24th and remain available until sale time! Take your time
  studying the consignments. When you’ve settled on the one
  (or ones!) you want\, you can place your maximum bid. The co
 mputer will then set you in for the minimum amount allowed a
 nd bid on your behalf as needed against other bidders. The c
 omputer is your agent and works for you. This is a hands fre
 e option that many find convenient to use. You can log in an
 d raise your maximum bid at anytime if you need to. You can 
 also join live to watch and if your maximum is exceeded but 
 you still want to bid\, you can go right ahead and bid live. 
 If you need any clarification on how this works\, please feel
  free to reach out to Bridget Lavigne (336) 904-8903   PLEA
 SE NOTE that in order to register as an online bidder at thi
 s sale\, you must enter a valid credit/debit card and a $1000
  hold on funds will be placed as a security measure. This is
  NOT a charge (though some mobile banking apps will send a n
 otification that looks like one) and it will fall off once f
 inal payment is made to Professional Horse Services\, LLC for
  any winning bids.   If you are tax exempt\, you must provid
 e Professional Horse Services\, LLC with proper documentation
 . Otherwise\, Ohio Sales Tax of 7.5% will be charged on all p
 urchases. Please forward tax exempt documentation to stephan
 ie@prohorseservices.com   BE SURE TO READ THE TERMS & CONDI
 TIONS! Upon registering to bid\, you are acknowledging that y
 ou have read\, agree to\, and are bound by them.   All Genera
 l Questions about the Congress Ranch Horse Sale should be di
 rected to Professional Horse Services at (855) 272-3905   A
 ll ONLINE BIDDING Questions should be directed to Amber Lee 
 Schwartz (336) 564-7650 or Bridget Lavigne (336) 904-8903
URL:https://www.horseauctionsusa.com/auctions/detail/bw88319
SEQUENCE:1
END:VEVENT
END:VCALENDAR