BEGIN:VCALENDAR
VERSION:2.0
PRODID:-//ExpressionEngine Easy iCalendar plugin//NONSGML v2.0.1//EN
X-WR-TIMEZONE:America/Chicago
X-WR-CALNAME:Upcoming Auctions
BEGIN:VEVENT
UID:98536
DTSTAMP:20230422T080002
DTSTART:20230422T080002
DTEND:20230422T090002
SUMMARY:2023 National Clydesdale Sale - April 22nd  Illinois State F
 airgrounds
LOCATION:801 E Sangamon Ave\, Springfield\, IL 62702\, US
DESCRIPTION:Be sure to join us for COMPLETE COVERAGE of the 2023 Nationa
 l Clydesdale Sale
URL:https://www.horseauctionsusa.com/auctions/detail/bw98536
SEQUENCE:1
END:VEVENT
END:VCALENDAR